Workbook

Sheet Demographics
A1: ID | B1: Gender | C1: Ethnic Group | D1: Assignment Category
A2: 1 | B2: F | C2: White (Not Hispanic or Latino) | D2: Fulltime
A3: 3 | B3: F | C3: White (Not Hispanic or Latino) | D3: Fulltime
A4: 4 | B4: M | C4: Asian (Not Hispanic or Latino) | D4: Fulltime
A5: 5 | B5: F | C5: White (Not Hispanic or Latino) | D5: Fulltime
A6: 6 | B6: F | C6: Hispanic or Latino | D6: Fulltime
A7: 10 | B7: M | C7: White (Not Hispanic or Latino) | D7: Fulltime
A8: 11 | B8: M | C8: White (Not Hispanic or Latino) | D8: Fulltime
A9: 13 | B9: M | C9: Hispanic or Latino | D9: Fulltime
A10: 17 | B10: M | C10: Hispanic or Latino | D10: Fulltime
A11: 18 | B11: M | C11: White (Not Hispanic or Latino) | D11: Fulltime
A12: 22 | B12: M | C12: White (Not Hispanic or Latino) | D12: Fulltime
A13: 24 | B13: M | C13: White (Not Hispanic or Latino) | D13: Fulltime
... A2338: 3578 | B2338: M | C2338: Hispanic or Latino | D2338: Part-time

Sheet Job Data
A1: ID | B1: Job Name | C1: Location | D1: Last Hire Date
A2: 2243 | B2: Sr Scientist I. | C2: Raleigh, NC | D2: 25472
A3: 2242 | B3: CAD Technician I. | C3: Tampa, FL | D3: 26816
A4: 1331 | B4: Proposal Coordinator II. | C4: Dallas, TX | D4: 27050
A5: 452 | B5: Operations Coordinator I. | C5: Orlando, FL | D5: 28408
A6: 3577 | B6: Engineer I. | C6: Henderson, NV | D6: 28464
A7: 3568 | B7: Sr Planner IV. | C7: Atlanta, GA | D7: 28522
A8: 3138 | B8: Sr Scientist III. | C8: Atlanta, GA | D8: 28534
A9: 3135 | B9: Principal Project Director. | C9: Austin, TX | D9: 28590
A10: 2701 | B10: Sr Engineer III. | C10: Miami, FL | D10: 28803
A11: 1801 | B11: Technical Intern I. | C11: Pensacola, FL | D11: 28915
A12: 880 | B12: Administrative Trainee. | C12: Orlando, FL | D12: 29000
A13: 878 | B13: Sr Group Manager. | C13: Alexandria, VA (F+G) | D13: 29024
... A2338: 1872 | B2338: Principal Technical Professional. | C2338: Austin, TX | D2338: 40917

Sheet Salary info
A1: ID | B1: Salary Grade | C1: Grade Min | D1: Grade Mid | E1: Grade Max | F1: Pay Basis | G1: Current Salary
A2: 2959 | B2: E10.A | C2: 35200 | D2: 50300 | E2: 65400 | F2: Salaried | G2: 36602.342
A3: 3501 | B3: E10.A | C3: 35200 | D3: 50300 | E3: 65400 | F3: Salaried | G3: 41791.1
A4: 2121 | B4: E10.A | C4: 35200 | D4: 50300 | E4: 65400 | F4: Salaried | G4: 43554
A5: 221 | B5: E10.A | C5: 35200 | D5: 50300 | E5: 65400 | F5: Salaried | G5: 45102.034
A6: 3416 | B6: E10.A | C6: 35200 | D6: 50300 | E6: 65400 | F6: Salaried | G6: 45148.979
A7: 2233 | B7: E10.A | C7: 35200 | D7: 50300 | E7: 65400 | F7: Salaried | G7: 46848
A8: 642 | B8: E10.A | C8: 35200 | D8: 50300 | E8: 65400 | F8: Salaried | G8: 48721.725
A9: 2623 | B9: E10.A | C9: 35200 | D9: 50300 | E9: 65400 | F9: Salaried | G9: 50150
A10: 2453 | B10: E10.A | C10: 35200 | D10: 50300 | E10: 65400 | F10: Salaried | G10: 53363.19
A11: 2976 | B11: E10.A | C11: 35200 | D11: 50300 | E11: 65400 | F11: Salaried | G11: 52156
A12: 294 | B12: E10.A | C12: 35200 | D12: 50300 | E12: 65400 | F12: Salaried | G12: 52538.47
A13: 226 | B13: E10.A | C13: 35200 | D13: 50300 | E13: 65400 | F13: Salaried | G13: 56620.2
... A2338: 2464 | B2338: N9.D | C2338: 41800 | D2338: 55700 | E2338: 69600 | F2338: Hourly | G2338: 28.80786

Sheet Bonus Info
A1: ID | B1: Bonus Amt
A2: 1 | B2: 0
A3: 3 | B3: 0
A4: 4 | B4: 0
A5: 5 | B5: 0
A6: 6 | B6: 0
A7: 10 | B7: 0
A8: 11 | B8: 0
A9: 13 | B9: 0
A10: 15 | B10: 0
A11: 17 | B11: 14061.72
A12: 18 | B12: 0
A13: 22 | B13: 0
... A2338: 3581 | B2338: 0

Sheet Combined Data Worksheet
A1: Copied from DEMO | B1: From DEMO | C1: FROM JOB DATA | D1: FROM SALARY info | F1: Calculation (convert salary to hourly)
A2: ID | B2: Gender | C2: Job Name | D2: Pay Basis | E2: Current Salary | F2: Converted PAY
A3: 1 | B3: =VLOOKUP(A3,Demographics!$A$1:$D$2338,2,FALSE) -> F
A4: 3 | B4: =VLOOKUP(A4,Demographics!$A$1:$D$2338,2,FALSE) -> F
A5: 4 | B5: =VLOOKUP(A5,Demographics!$A$1:$D$2338,2,FALSE) -> M
A6: 5 | B6: =VLOOKUP(A6,Demographics!$A$1:$D$2338,2,FALSE) -> F
A7: 6 | B7: =VLOOKUP(A7,Demographics!$A$1:$D$2338,2,FALSE) -> F
A8: 10 | B8: =VLOOKUP(A8,Demographics!$A$1:$D$2338,2,FALSE) -> M
A9: 11 | B9: =VLOOKUP(A9,Demographics!$A$1:$D$2338,2,FALSE) -> M
A10: 13 | B10: =VLOOKUP(A10,Demographics!$A$1:$D$2338,2,FALSE) -> M
A11: 15 | B11: =VLOOKUP(A11,Demographics!$A$1:$D$2338,2,FALSE) -> M
A12: 17 | B12: =VLOOKUP(A12,Demographics!$A$1:$D$2338,2,FALSE) -> M
A13: 18 | B13: =VLOOKUP(A13,Demographics!$A$1:$D$2338,2,FALSE) -> M
A14: 22 | B14: =VLOOKUP(A14,Demographics!$A$1:$D$2338,2,FALSE) -> M
... A2339: 3581 | B2339: =VLOOKUP(A2339,Demographics!$A$1:$D$2338,2,FALSE) -> M

Sheet PAY EQUITY WORK SHEET
B1: POSITION 1 | E1: POSITION 2 | H1: POSITION 3 | K1: POSITION 4 | N1: POSITION 5
B3: M | C3: F | E3: M | F3: F | H3: M | I3: F | K3: M | L3: F | N3: M | O3: F
A4: Avg Salary
A6: Overall Average
B8: T.TEST
B9: less than .05?
B10: -if YES, there is a significant difference between Male and female
B11: -if NO, there is NOT a significant difference between Male and female
A13: PASTE RAW DATA HERE:
B14: M | C14: F | E14: M | F14: F | H14: M | I14: F | K14: M | L14: F | N14: M | O14: F

Sheet Summary Table
C3: Average Pay | G3: Statistical Diff
B4: Position | C4: Overall | D4: Male | E4: Female | G4: P-value | H4: Yes/No
B5: Position 1
B6: Position 2
B7: Position 3
B8: Position 4
B9: Position 5
